BEGIN:VCALENDAR
VERSION:2.0
PRODID:icalendar-ruby
CALSCALE:GREGORIAN
METHOD:PUBLISH
BEGIN:VEVENT
DTSTAMP:20260422T024935Z
UID:8-418293@winsteadumc.org
DTSTART:20261025T143000Z
DTEND:20261025T153000Z
CLASS:PUBLIC
CREATED:20260421T213250
DESCRIPTION:Join us in the Sanctuary for Worship
LAST-MODIFIED:20260421T213250
LOCATION:Winstead UMC
SUMMARY:Sunday Worship
URL;VALUE=URI:https://winsteadumc.org/events/sunday-worship/2026-10-25
END:VEVENT
END:VCALENDAR
