BEGIN:VCALENDAR
VERSION:2.0
PRODID:icalendar-ruby
CALSCALE:GREGORIAN
METHOD:PUBLISH
BEGIN:VEVENT
DTSTAMP:20260422T011257Z
UID:8-417946@winsteadumc.org
DTSTART:20261018T143000Z
DTEND:20261018T153000Z
CLASS:PUBLIC
CREATED:20260421T185425
DESCRIPTION:Join us in the Sanctuary for Worship
LAST-MODIFIED:20260421T185425
LOCATION:Winstead UMC
SUMMARY:Sunday Worship
URL;VALUE=URI:https://winsteadumc.org/events/sunday-worship/2026-10-18
END:VEVENT
END:VCALENDAR
