BEGIN:VCALENDAR
VERSION:2.0
PRODID:icalendar-ruby
CALSCALE:GREGORIAN
METHOD:PUBLISH
BEGIN:VEVENT
DTSTAMP:20260421T215631Z
UID:8-417598@winsteadumc.org
DTSTART:20261004T143000Z
DTEND:20261004T153000Z
CLASS:PUBLIC
CREATED:20260421T161551
DESCRIPTION:Join us in the Sanctuary for Worship
LAST-MODIFIED:20260421T161551
LOCATION:Winstead UMC
SUMMARY:Sunday Worship
URL;VALUE=URI:https://winsteadumc.org/events/sunday-worship/2026-10-04
END:VEVENT
END:VCALENDAR
