BEGIN:VCALENDAR
VERSION:2.0
PRODID:icalendar-ruby
CALSCALE:GREGORIAN
METHOD:PUBLISH
BEGIN:VEVENT
DTSTAMP:20260426T025417Z
UID:9-426679@winsteadumc.org
DTSTART:20261025T133000Z
DTEND:20261025T141500Z
CLASS:PUBLIC
CREATED:20260425T215607
DESCRIPTION:
LAST-MODIFIED:20260425T215607
LOCATION:
SUMMARY:Sunday School
URL;VALUE=URI:https://winsteadumc.org/events/sunday-school/2026-10-25
END:VEVENT
END:VCALENDAR
