BEGIN:VCALENDAR
VERSION:2.0
PRODID:icalendar-ruby
CALSCALE:GREGORIAN
METHOD:PUBLISH
BEGIN:VEVENT
DTSTAMP:20260425T222618Z
UID:9-425980@winsteadumc.org
DTSTART:20261004T133000Z
DTEND:20261004T141500Z
CLASS:PUBLIC
CREATED:20260425T163152
DESCRIPTION:
LAST-MODIFIED:20260425T163152
LOCATION:
SUMMARY:Sunday School
URL;VALUE=URI:https://winsteadumc.org/events/sunday-school/2026-10-04
END:VEVENT
END:VCALENDAR
