BEGIN:VCALENDAR
VERSION:2.0
PRODID:icalendar-ruby
CALSCALE:GREGORIAN
METHOD:PUBLISH
BEGIN:VEVENT
DTSTAMP:20260425T154538Z
UID:20-425546@winsteadumc.org
DTSTART:20261020T140000Z
DTEND:20261020T150000Z
CLASS:PUBLIC
CREATED:20260425T111026
DESCRIPTION:Join us in the sanctuary for the weekly senior wellness class.
   Participation is $1.
LAST-MODIFIED:20260425T111026
LOCATION:Sanctuary
SUMMARY:Senior Wellness Class
URL;VALUE=URI:https://winsteadumc.org/events/senior-wellness-class/2026-10-
 20
END:VEVENT
END:VCALENDAR
