BEGIN:VCALENDAR
VERSION:2.0
PRODID:icalendar-ruby
CALSCALE:GREGORIAN
METHOD:PUBLISH
BEGIN:VEVENT
DTSTAMP:20260425T142118Z
UID:20-425197@winsteadumc.org
DTSTART:20261013T140000Z
DTEND:20261013T150000Z
CLASS:PUBLIC
CREATED:20260425T082931
DESCRIPTION:Join us in the sanctuary for the weekly senior wellness class.
   Participation is $1.
LAST-MODIFIED:20260425T082931
LOCATION:Sanctuary
SUMMARY:Senior Wellness Class
URL;VALUE=URI:https://winsteadumc.org/events/senior-wellness-class/2026-10-
 13
END:VEVENT
END:VCALENDAR
