BEGIN:VCALENDAR
VERSION:2.0
PRODID:icalendar-ruby
CALSCALE:GREGORIAN
METHOD:PUBLISH
BEGIN:VEVENT
DTSTAMP:20260423T112333Z
UID:17-420585@winsteadumc.org
DTSTART:20261007T213000Z
DTEND:20261007T224500Z
CLASS:PUBLIC
CREATED:20260422T231204
DESCRIPTION:Weekly rehearsal of the Grace Notes handbell choir.  Please re
 ach out to Joyce Wolfe if you're interested in joining.  
LAST-MODIFIED:20260422T231204
LOCATION:
SUMMARY:Grace Notes Rehearsal
URL;VALUE=URI:https://winsteadumc.org/events/grace-notes-rehearsal/2026-10-
 07
END:VEVENT
END:VCALENDAR
