BEGIN:VCALENDAR
VERSION:2.0
PRODID:icalendar-ruby
CALSCALE:GREGORIAN
METHOD:PUBLISH
BEGIN:VEVENT
DTSTAMP:20260423T080608Z
UID:17-420583@winsteadumc.org
DTSTART:20260923T213000Z
DTEND:20260923T224500Z
CLASS:PUBLIC
CREATED:20260422T231204
DESCRIPTION:Weekly rehearsal of the Grace Notes handbell choir.  Please re
 ach out to Joyce Wolfe if you're interested in joining.  
LAST-MODIFIED:20260422T231204
LOCATION:
SUMMARY:Grace Notes Rehearsal
URL;VALUE=URI:https://winsteadumc.org/events/grace-notes-rehearsal/2026-09-
 23
END:VEVENT
END:VCALENDAR
