BEGIN:VCALENDAR
VERSION:2.0
PRODID:icalendar-ruby
CALSCALE:GREGORIAN
METHOD:PUBLISH
BEGIN:VEVENT
DTSTAMP:20260423T024958Z
UID:17-420231@winsteadumc.org
DTSTART:20260826T213000Z
DTEND:20260826T224500Z
CLASS:PUBLIC
CREATED:20260422T201740
DESCRIPTION:Weekly rehearsal of the Grace Notes handbell choir.  Please re
 ach out to Joyce Wolfe if you're interested in joining.  
LAST-MODIFIED:20260422T201740
LOCATION:
SUMMARY:Grace Notes Rehearsal
URL;VALUE=URI:https://winsteadumc.org/events/grace-notes-rehearsal/2026-08-
 26
END:VEVENT
END:VCALENDAR
