BEGIN:VCALENDAR
VERSION:2.0
PRODID:icalendar-ruby
CALSCALE:GREGORIAN
METHOD:PUBLISH
BEGIN:VEVENT
DTSTAMP:20260422T223032Z
UID:17-419882@winsteadumc.org
DTSTART:20260805T213000Z
DTEND:20260805T224500Z
CLASS:PUBLIC
CREATED:20260422T172610
DESCRIPTION:Weekly rehearsal of the Grace Notes handbell choir.  Please re
 ach out to Joyce Wolfe if you're interested in joining.  
LAST-MODIFIED:20260422T172610
LOCATION:
SUMMARY:Grace Notes Rehearsal
URL;VALUE=URI:https://winsteadumc.org/events/grace-notes-rehearsal/2026-08-
 05
END:VEVENT
END:VCALENDAR
